BEGIN:VCALENDAR
VERSION:2.0
PRODID:-//eventon.com NONSGML v1.0//EN
CALSCALE:GREGORIAN
METHOD:PUBLISH
BEGIN:VEVENT
UID:69e732be10a26
DTSTAMP:20260421T081806Z
DTSTART:20260309T093000Z
DTEND:20260309T235900Z
LOCATION:
SUMMARY:Senior Stroll with a Naturalist
DESCRIPTION:On this guided walk\,  dedicated to seasoned citizens 55 and ol
 der\,  you’ll learn about the natural history of the park. Wear good shoe
 s and bring binoculars if you have them! No registration required and free!
 \nhttps://www.hollidaypark.org/events/senior-stroll-with-a-naturalist/
URL:https://www.hollidaypark.org/events/senior-stroll-with-a-naturalist/
END:VEVENT
END:VCALENDAR