BEGIN:VCALENDAR
VERSION:2.0
PRODID:-//eventon.com NONSGML v1.0//EN
CALSCALE:GREGORIAN
METHOD:PUBLISH
BEGIN:VEVENT
UID:69e733f4b9aae
DTSTAMP:20260421T082316Z
DTSTART:20260109T100000Z
DTEND:20260109T235900Z
LOCATION:
SUMMARY:Natural History Book Club
DESCRIPTION:This monthly program offers adults a chance to learn about natu
 re and environmental issues through the words of different nature authors.\
 nhttps://www.hollidaypark.org/events/natural-history-book-club/
URL:https://www.hollidaypark.org/events/natural-history-book-club/
END:VEVENT
END:VCALENDAR